BEGIN:VCALENDAR
VERSION:2.0
PRODID:icalendar-ruby
CALSCALE:GREGORIAN
METHOD:PUBLISH
BEGIN:VEVENT
DTSTAMP:20260424T093758Z
UID:42-267484@elimfoursquare.org
DTSTART:20260507T160000Z
DTEND:20260507T170000Z
CLASS:PUBLIC
CREATED:20260410T075435
DESCRIPTION:These monthly\, corporate prayer meetings are for believers in 
 Jesus Christ to come together and pray. There will be a short teaching as 
 led by the Holy Spirit followed by prayer.  As a Spirit-filled church\, t
 here will be an emphasis on learning to pray in the Holy Spirit/tongues as
  well as praying in our known language.\nCome and join us as we gather bef
 ore God\, as the Church of Jesus Christ.
LAST-MODIFIED:20260410T075435
LOCATION:
SUMMARY:Monthly Prayer Meeting
URL;VALUE=URI:https://www.elimfoursquare.org/events/monthly-prayer-meeting/
 2026-05-07
ATTACH;FILENAME=Corporate.jpg;FMTTYPE=image/jpeg:https://dq5pwpg1q8ru0.clou
 dfront.net/2026/02/28/13/07/39/bdd9a7ee-b3a2-48d4-84e8-a0933550b55b/Corpor
 ate.jpg
END:VEVENT
END:VCALENDAR
